BEGIN:VCALENDAR
VERSION:2.0
PRODID:-//Charlestown Chamber of Commerce - ECPv6.15.20//NONSGML v1.0//EN
CALSCALE:GREGORIAN
METHOD:PUBLISH
X-WR-CALNAME:Charlestown Chamber of Commerce
X-ORIGINAL-URL:https://charlestownrichamber.com
X-WR-CALDESC:Events for Charlestown Chamber of Commerce
REFRESH-INTERVAL;VALUE=DURATION:PT1H
X-Robots-Tag:noindex
X-PUBLISHED-TTL:PT1H
BEGIN:VTIMEZONE
TZID:America/New_York
BEGIN:DAYLIGHT
TZOFFSETFROM:-0500
TZOFFSETTO:-0400
TZNAME:EDT
DTSTART:20250309T070000
END:DAYLIGHT
BEGIN:STANDARD
TZOFFSETFROM:-0400
TZOFFSETTO:-0500
TZNAME:EST
DTSTART:20251102T060000
END:STANDARD
BEGIN:DAYLIGHT
TZOFFSETFROM:-0500
TZOFFSETTO:-0400
TZNAME:EDT
DTSTART:20260308T070000
END:DAYLIGHT
BEGIN:STANDARD
TZOFFSETFROM:-0400
TZOFFSETTO:-0500
TZNAME:EST
DTSTART:20261101T060000
END:STANDARD
BEGIN:DAYLIGHT
TZOFFSETFROM:-0500
TZOFFSETTO:-0400
TZNAME:EDT
DTSTART:20270314T070000
END:DAYLIGHT
BEGIN:STANDARD
TZOFFSETFROM:-0400
TZOFFSETTO:-0500
TZNAME:EST
DTSTART:20271107T060000
END:STANDARD
END:VTIMEZONE
BEGIN:VEVENT
DTSTART;TZID=America/New_York:20260218T170000
DTEND;TZID=America/New_York:20260218T190000
DTSTAMP:20260422T182956
CREATED:20260109T232813Z
LAST-MODIFIED:20260116T224611Z
UID:5927-1771434000-1771441200@charlestownrichamber.com
SUMMARY:Business After Hours | February 18\, 2026
DESCRIPTION:Join us for our Business After Hours! \nFebruary 18\, 2026 from 5 p.m. to 7 p.m. at The General Stanton Inn! \nRSVP to Heather at heather@charlestownrichamber.com \nPresented by the Charlestown Chamber of Commerce along with Southern Rhode Island Chamber of Commerce.
URL:https://charlestownrichamber.com/event/business-after-hours-february-18-2026/
LOCATION:The General Stanton Inn\, 4115 Old Post Road\, Charlestown\, Rhode Island\, 02813
CATEGORIES:Business After Hours,Chamber Event,Holidays
ATTACH;FMTTYPE=image/png:https://charlestownrichamber.com/wp-content/uploads/2026/01/February-2026-BAH-1.png
ORGANIZER;CN="Charlestown Chamber of Commerce":MAILTO:heather@charlestownrichamber.com
END:VEVENT
END:VCALENDAR